BEGIN:VCALENDAR
VERSION:2.0
PRODID:-//Palladio - ECPv6.15.20//NONSGML v1.0//EN
CALSCALE:GREGORIAN
METHOD:PUBLISH
X-WR-CALNAME:Palladio
X-ORIGINAL-URL:https://gopalladio.com
X-WR-CALDESC:Events for Palladio
REFRESH-INTERVAL;VALUE=DURATION:PT1H
X-Robots-Tag:noindex
X-PUBLISHED-TTL:PT1H
BEGIN:VTIMEZONE
TZID:America/Los_Angeles
BEGIN:DAYLIGHT
TZOFFSETFROM:-0800
TZOFFSETTO:-0700
TZNAME:PDT
DTSTART:20250309T100000
END:DAYLIGHT
BEGIN:STANDARD
TZOFFSETFROM:-0700
TZOFFSETTO:-0800
TZNAME:PST
DTSTART:20251102T090000
END:STANDARD
BEGIN:DAYLIGHT
TZOFFSETFROM:-0800
TZOFFSETTO:-0700
TZNAME:PDT
DTSTART:20260308T100000
END:DAYLIGHT
BEGIN:STANDARD
TZOFFSETFROM:-0700
TZOFFSETTO:-0800
TZNAME:PST
DTSTART:20261101T090000
END:STANDARD
BEGIN:DAYLIGHT
TZOFFSETFROM:-0800
TZOFFSETTO:-0700
TZNAME:PDT
DTSTART:20270314T100000
END:DAYLIGHT
BEGIN:STANDARD
TZOFFSETFROM:-0700
TZOFFSETTO:-0800
TZNAME:PST
DTSTART:20271107T090000
END:STANDARD
END:VTIMEZONE
BEGIN:VEVENT
DTSTART;TZID=America/Los_Angeles:20261026T170000
DTEND;TZID=America/Los_Angeles:20261026T180000
DTSTAMP:20260419T090831
CREATED:20260127T050114Z
LAST-MODIFIED:20260127T050114Z
UID:10002828-1793034000-1793037600@gopalladio.com
SUMMARY:Palladio’s Trick or Treat Event
DESCRIPTION:Join us at Palladio for a fun Trick or Treat event\, Monday\, October 26th\, 5p-6p. Come in costume and Trick or Treat at participating retailers at Palladio. DJ Buzzard will be setting the stage with music and fun games in the Piazza.  Don’t miss this fun event!
URL:https://gopalladio.com/event/palladios-trick-or-treat-event-2/
LOCATION:Palladio Piazza\, 350 Palladio Pkwy\, Folsom\, CA\, 95630\, United States
CATEGORIES:Holiday Event
ATTACH;FMTTYPE=image/jpeg:https://gopalladio.com/wp-content/uploads/2024/02/TT-800x800-NoDate-2.jpg
ORGANIZER;CN="Palladio":MAILTO:contact@gopalladio.com
GEO:38.649922;-121.120109
X-APPLE-STRUCTURED-LOCATION;VALUE=URI;X-ADDRESS=Palladio Piazza 350 Palladio Pkwy Folsom CA 95630 United States;X-APPLE-RADIUS=500;X-TITLE=350 Palladio Pkwy:geo:-121.120109,38.649922
END:VEVENT
END:VCALENDAR