BEGIN:VCALENDAR
VERSION:2.0
PRODID:-//Palladio - ECPv6.15.20//NONSGML v1.0//EN
CALSCALE:GREGORIAN
METHOD:PUBLISH
X-ORIGINAL-URL:https://gopalladio.com
X-WR-CALDESC:Events for Palladio
REFRESH-INTERVAL;VALUE=DURATION:PT1H
X-Robots-Tag:noindex
X-PUBLISHED-TTL:PT1H
BEGIN:VTIMEZONE
TZID:America/Los_Angeles
BEGIN:DAYLIGHT
TZOFFSETFROM:-0800
TZOFFSETTO:-0700
TZNAME:PDT
DTSTART:20230312T100000
END:DAYLIGHT
BEGIN:STANDARD
TZOFFSETFROM:-0700
TZOFFSETTO:-0800
TZNAME:PST
DTSTART:20231105T090000
END:STANDARD
BEGIN:DAYLIGHT
TZOFFSETFROM:-0800
TZOFFSETTO:-0700
TZNAME:PDT
DTSTART:20240310T100000
END:DAYLIGHT
BEGIN:STANDARD
TZOFFSETFROM:-0700
TZOFFSETTO:-0800
TZNAME:PST
DTSTART:20241103T090000
END:STANDARD
BEGIN:DAYLIGHT
TZOFFSETFROM:-0800
TZOFFSETTO:-0700
TZNAME:PDT
DTSTART:20250309T100000
END:DAYLIGHT
BEGIN:STANDARD
TZOFFSETFROM:-0700
TZOFFSETTO:-0800
TZNAME:PST
DTSTART:20251102T090000
END:STANDARD
BEGIN:DAYLIGHT
TZOFFSETFROM:-0800
TZOFFSETTO:-0700
TZNAME:PDT
DTSTART:20260308T100000
END:DAYLIGHT
BEGIN:STANDARD
TZOFFSETFROM:-0700
TZOFFSETTO:-0800
TZNAME:PST
DTSTART:20261101T090000
END:STANDARD
BEGIN:DAYLIGHT
TZOFFSETFROM:-0800
TZOFFSETTO:-0700
TZNAME:PDT
DTSTART:20270314T100000
END:DAYLIGHT
BEGIN:STANDARD
TZOFFSETFROM:-0700
TZOFFSETTO:-0800
TZNAME:PST
DTSTART:20271107T090000
END:STANDARD
END:VTIMEZONE
BEGIN:VTIMEZONE
TZID:UTC
BEGIN:STANDARD
TZOFFSETFROM:+0000
TZOFFSETTO:+0000
TZNAME:UTC
DTSTART:20210101T000000
END:STANDARD
END:VTIMEZONE
BEGIN:VTIMEZONE
TZID:America/Tijuana
BEGIN:DAYLIGHT
TZOFFSETFROM:-0800
TZOFFSETTO:-0700
TZNAME:PDT
DTSTART:20180311T100000
END:DAYLIGHT
BEGIN:STANDARD
TZOFFSETFROM:-0700
TZOFFSETTO:-0800
TZNAME:PST
DTSTART:20181104T090000
END:STANDARD
BEGIN:DAYLIGHT
TZOFFSETFROM:-0800
TZOFFSETTO:-0700
TZNAME:PDT
DTSTART:20190310T100000
END:DAYLIGHT
BEGIN:STANDARD
TZOFFSETFROM:-0700
TZOFFSETTO:-0800
TZNAME:PST
DTSTART:20191103T090000
END:STANDARD
BEGIN:DAYLIGHT
TZOFFSETFROM:-0800
TZOFFSETTO:-0700
TZNAME:PDT
DTSTART:20200308T100000
END:DAYLIGHT
BEGIN:STANDARD
TZOFFSETFROM:-0700
TZOFFSETTO:-0800
TZNAME:PST
DTSTART:20201101T090000
END:STANDARD
BEGIN:DAYLIGHT
TZOFFSETFROM:-0800
TZOFFSETTO:-0700
TZNAME:PDT
DTSTART:20210314T100000
END:DAYLIGHT
BEGIN:STANDARD
TZOFFSETFROM:-0700
TZOFFSETTO:-0800
TZNAME:PST
DTSTART:20211107T090000
END:STANDARD
END:VTIMEZONE
BEGIN:VEVENT
DTSTART;VALUE=DATE:20260320
DTEND;VALUE=DATE:20260405
DTSTAMP:20260419T055858
CREATED:20260127T041526Z
LAST-MODIFIED:20260127T042711Z
UID:10002773-1773964800-1775347199@gopalladio.com
SUMMARY:Palladio’s Photos With The Easter Bunny
DESCRIPTION:Happy Easter!\nPhotos with the Easter Bunny are back at Palladio. Make your reservation today.   Reservations are strongly recommended – walk-ins are welcome.\nTo Book Your Reservation\, Click here\nDetails: Hop over for Easter Bunny pictures at Palladio\, The Easter Photos are located in the Piazza! Walk ups welcome every day until closing time. Parking is available in the parking garage\, behind Chicago Fire and Whole Foods Market Parking lot. Restrooms are located across from the Piazza in two locations. On the East side of the property\, under the clock tower in the breeze way between the offices and the parking garage and next to Color Me Mine on the West side of the property. If you need to speak to Cherry Hill regarding returns/exchanges\, please contact customer service (800) 475-4401. If you have questions regarding where the Easter bunny is located you can call (916) 542-7408 during operating hours.\nTo Book Your Reservation\, Click here\nEaster Bunny Schedule \nMarch 20th –  April 4th\nFriday March 20th 3p -7p\nSaturday March  21st 10a – 8p\nSunday March 22nd 11a – 7p\nMonday March 23rd – Friday March 27th 3p-7p\nSaturday March 28th 10a – 8p\nSunday March 29th – Friday April 3rd 11a – 7p\nSaturday April 4th 10a – 8p\nTo Book Your Reservation\, Click here
URL:https://gopalladio.com/event/palladios-photos-with-the-easter-bunny-2/
LOCATION:Piazza at Palladio\, 350 Palladio Pkwy\, Folsom\, CA\, 95630\, United States
CATEGORIES:Holiday Event
ATTACH;FMTTYPE=image/jpeg:https://gopalladio.com/wp-content/uploads/2026/01/Easter-650-X-650-2026.jpg
ORGANIZER;CN="Palladio":MAILTO:contact@gopalladio.com
GEO:38.6504167;-121.1206396
X-APPLE-STRUCTURED-LOCATION;VALUE=URI;X-ADDRESS=Piazza at Palladio 350 Palladio Pkwy Folsom CA 95630 United States;X-APPLE-RADIUS=500;X-TITLE=350 Palladio Pkwy:geo:-121.1206396,38.6504167
END:VEVENT
BEGIN:VEVENT
DTSTART;TZID=America/Los_Angeles:20251214T183000
DTEND;TZID=America/Los_Angeles:20251214T210000
DTSTAMP:20260419T055858
CREATED:20250211T045040Z
LAST-MODIFIED:20251023T174505Z
UID:10002158-1765737000-1765746000@gopalladio.com
SUMMARY:Menorah Lighting at Palladio
DESCRIPTION:Menorah Lighting will be held at Palladio December 14th\, 6:30p-9p.\nJoin the Chabad Jewish Community Center for a Menorah lighting at Palladio.
URL:https://gopalladio.com/event/menorah-lighting-at-palladio-2/
LOCATION:Palladio Piazza\, 350 Palladio Pkwy\, Folsom\, CA\, 95630\, United States
CATEGORIES:Holiday Event
ATTACH;FMTTYPE=image/jpeg:https://gopalladio.com/wp-content/uploads/2024/02/Chabad-800x800-1.jpg
ORGANIZER;CN="Jewish Community Center Folsom/El Dorado Hills":MAILTO:admin@jewishfolsom.org
GEO:38.649922;-121.120109
X-APPLE-STRUCTURED-LOCATION;VALUE=URI;X-ADDRESS=Palladio Piazza 350 Palladio Pkwy Folsom CA 95630 United States;X-APPLE-RADIUS=500;X-TITLE=350 Palladio Pkwy:geo:-121.120109,38.649922
END:VEVENT
BEGIN:VEVENT
DTSTART;TZID=America/Los_Angeles:20251122T180000
DTEND;TZID=America/Los_Angeles:20251228T181500
DTSTAMP:20260419T055858
CREATED:20251114T231647Z
LAST-MODIFIED:20251118T175458Z
UID:10002611-1763834400-1766945700@gopalladio.com
SUMMARY:Let It Snow at Palladio!
DESCRIPTION:It’s snowing every night at Palladio!\nEvery night at 6pm gather around the Christmas Tree for a truly delightful snowy event.\nChristmas Tree is located in the Piazza at the Palladio\, bring the whole family!\n“Let it Snow” will happen nightly at 6pm starting November 22nd – December 28th
URL:https://gopalladio.com/event/let-it-snow-at-palladio/
LOCATION:Palladio Piazza\, 350 Palladio Pkwy\, Folsom\, CA\, 95630\, United States
CATEGORIES:Holiday Event
ATTACH;FMTTYPE=image/jpeg:https://gopalladio.com/wp-content/uploads/2025/11/800x800-LetitSnow-2025.jpg
ORGANIZER;CN="Palladio":MAILTO:contact@gopalladio.com
GEO:38.649922;-121.120109
X-APPLE-STRUCTURED-LOCATION;VALUE=URI;X-ADDRESS=Palladio Piazza 350 Palladio Pkwy Folsom CA 95630 United States;X-APPLE-RADIUS=500;X-TITLE=350 Palladio Pkwy:geo:-121.120109,38.649922
END:VEVENT
BEGIN:VEVENT
DTSTART;TZID=America/Los_Angeles:20251122T170000
DTEND;TZID=America/Los_Angeles:20251122T180000
DTSTAMP:20260419T055858
CREATED:20240221T013638Z
LAST-MODIFIED:20251006T202958Z
UID:10000494-1763830800-1763834400@gopalladio.com
SUMMARY:Palladio Tree Lighting
DESCRIPTION:Join us 5pm-6pm for our annual Tree Lighting on Saturday\, November 22nd.   There will be yummy refreshments available and fun local performances. Santa and friends will also be joining for some Holiday fun.
URL:https://gopalladio.com/event/palladio-tree-lighting/
LOCATION:Piazza at Palladio\, 350 Palladio Pkwy\, Folsom\, CA\, 95630\, United States
CATEGORIES:Holiday Event,Tree Lighting
ATTACH;FMTTYPE=image/jpeg:https://gopalladio.com/wp-content/uploads/2024/02/Website.jpg
ORGANIZER;CN="Palladio":MAILTO:contact@gopalladio.com
GEO:38.6504167;-121.1206396
X-APPLE-STRUCTURED-LOCATION;VALUE=URI;X-ADDRESS=Piazza at Palladio 350 Palladio Pkwy Folsom CA 95630 United States;X-APPLE-RADIUS=500;X-TITLE=350 Palladio Pkwy:geo:-121.1206396,38.6504167
END:VEVENT
BEGIN:VEVENT
DTSTART;VALUE=DATE:20251121
DTEND;VALUE=DATE:20251225
DTSTAMP:20260419T055858
CREATED:20240814T014631Z
LAST-MODIFIED:20251118T042009Z
UID:10002032-1763683200-1766620799@gopalladio.com
SUMMARY:Santa Photos Experience at Palladio
DESCRIPTION:Welcome to the Santa Photos Experience at Palladio!\nPalladio has teamed up with Santa’s elves and is offering a great photo experience with Santa.  When you book online you get free gifts from Portable North Pole\, Shutterfly and now Crayola! \n\n ✨ Make This Holiday Season Extra Magical! ✨ \n\nWhen you book your Santa photo experience online\, you’ll also receive 3 treats:📸 50% off your Shutterfly order + 10 free holiday cards🎅 A personalized digital message from Santa before your visit🖍 A free 3-month trial to Crayola Create and Play\n \n \n\nTo Book Online Click Here: \nFive Perks for Booking Online:– Holiday Cards from Shutterfly: 10 free cards and 50% off your entire Shutterfly order.– Gift from Portable North Pole: A personalized digital message from Santa before your visit.– Beat the Rush: Lock in your date and time now.– Free Rescheduling: Up to 48 hours before your visit.– Hassle free Checkout: A quick and easy process when you visit. \n\n \n \n\nPalladio is also offering Sensory Santa time – December 7th\, 9:30a – 10:30aand Bring your pet for photos Mondays 4p-7p. \n\nThis year Santa will be here Dates November 21st – December 24th.  Reservations are recommended\, walk ups are welcome. Santa’s Workshop is located in the Piazza at Palladio. 330 Palladio Parkway\, Folsom\, CA 95630.  Parking is available in the Parking Garage\, behind Chicago Fire and Whole Foods Market Parking Lot. Restrooms are located across from the Piazza in two locations. On the East side of the property\, under the clock tower in the breeze way between the offices and parking garage and next to Color Me Mine on the West side of the property. You can reschedule your appt and see pricing here. If you need to speak to Cherry Hill regarding returns/exchanges\, please contact customer service (800) 475-4401. If you have questions regarding where Santa is located at Palladio you can call (916) 542-7408 during operating hours.SANTA’S SCHEDULEFriday\, November  21 – 3p – 7pSaturday\, November 22\, 11a – 5pSaturday & Sundays\, November 23 – December 14 – 11a – 7pMonday – Friday\, November 24 – December 12 \, 3p –  7pThursday\, November 27   *Thanksgiving Day* – CLOSEDMonday\, December 15 –  Friday\, December 19 – 11a – 7pSaturday\, December 20 – Tuesday\, December 23 – 9a – 9pWednesday\, December 24 – *Christmas Eve* – 9a – 6pSaturdays and Sundays there will be breaks from 2p – 3p & 5-5:30p \nTo Book Online: Click Here
URL:https://gopalladio.com/event/santa-experience-at-palladio-2/
LOCATION:Santa’s Workshop at Palladio\, 330 Palladio Parkway\, Folsom\, CA\, 95630\, United States
CATEGORIES:Holiday Event
ATTACH;FMTTYPE=image/jpeg:https://gopalladio.com/wp-content/uploads/2024/08/SantaPhoto800X800-generic.jpg
GEO:38.6494272;-121.1197653
X-APPLE-STRUCTURED-LOCATION;VALUE=URI;X-ADDRESS=Santa’s Workshop at Palladio 330 Palladio Parkway Folsom CA 95630 United States;X-APPLE-RADIUS=500;X-TITLE=330 Palladio Parkway:geo:-121.1197653,38.6494272
END:VEVENT
BEGIN:VEVENT
DTSTART;TZID=America/Los_Angeles:20251027T170000
DTEND;TZID=America/Los_Angeles:20251027T180000
DTSTAMP:20260419T055858
CREATED:20240223T050314Z
LAST-MODIFIED:20250522T225440Z
UID:10000497-1761584400-1761588000@gopalladio.com
SUMMARY:Palladio’s Trick or Treat Event
DESCRIPTION:Join us at Palladio for a fun Trick or Treat event\, Monday\, October 27th\, 5p-6p. Come in costume and Trick or Treat at participating retailers at Palladio. DJ Buzzard will be setting the stage with music and fun games in the Piazza.  Don’t miss this fun event!
URL:https://gopalladio.com/event/palladios-trick-or-treat-event/
LOCATION:Palladio Piazza\, 350 Palladio Pkwy\, Folsom\, CA\, 95630\, United States
CATEGORIES:Holiday Event
ATTACH;FMTTYPE=image/jpeg:https://gopalladio.com/wp-content/uploads/2024/02/TT-800x800-NoDate-2.jpg
ORGANIZER;CN="Palladio":MAILTO:contact@gopalladio.com
GEO:38.649922;-121.120109
X-APPLE-STRUCTURED-LOCATION;VALUE=URI;X-ADDRESS=Palladio Piazza 350 Palladio Pkwy Folsom CA 95630 United States;X-APPLE-RADIUS=500;X-TITLE=350 Palladio Pkwy:geo:-121.120109,38.649922
END:VEVENT
BEGIN:VEVENT
DTSTART;VALUE=DATE:20250404
DTEND;VALUE=DATE:20250420
DTSTAMP:20260419T055858
CREATED:20230307T074139Z
LAST-MODIFIED:20250228T080813Z
UID:10000477-1743724800-1745107199@gopalladio.com
SUMMARY:Palladio’s Photos With The Easter Bunny
DESCRIPTION:Happy Easter!\nPhotos with the Easter Bunny are back at Palladio. Make your reservation today.   Reservations are strongly recommended – walk-ins are welcome.\nTo Book Your Reservation\, Click here\nDetails: Hop over for Easter Bunny pictures at Palladio\, The Easter Photos are located in the Piazza! Walk ups welcome every day until closing time. Parking is available in the parking garage\, behind Chicago Fire and Whole Foods Market Parking lot. Restrooms are located across from the Piazza in two locations. On the East side of the property\, under the clock tower in the breeze way between the offices and the parking garage and next to Color Me Mine on the West side of the property. If you need to speak to Cherry Hill regarding returns/exchanges\, please contact customer service (800) 475-4401. If you have questions regarding where the Easter bunny is located you can call (916) 542-7408 during operating hours.\nTo Book Your Reservation\, Click here\nEaster Bunny Schedule \nApril 4th- April 19th\nFriday April 4th 3p -7p\nSaturday April 5th 10a – 8p\nSunday April 6th 11a – 7p\nMonday April 7th – Friday April 11th 3p-7p\nSaturday April 12th 10a – 8p\nSunday April 13th – Friday April 18th 11a – 7p\nSaturday April 19th 10a – 8p\nTo Book Your Reservation\, Click here
URL:https://gopalladio.com/event/palladios-photos-with-the-easter-bunny/
LOCATION:Piazza at Palladio\, 350 Palladio Pkwy\, Folsom\, CA\, 95630\, United States
CATEGORIES:Holiday Event
ATTACH;FMTTYPE=image/jpeg:https://gopalladio.com/wp-content/uploads/2023/03/Palladio_Easter_800x800-2025.jpg
GEO:38.6504167;-121.1206396
X-APPLE-STRUCTURED-LOCATION;VALUE=URI;X-ADDRESS=Piazza at Palladio 350 Palladio Pkwy Folsom CA 95630 United States;X-APPLE-RADIUS=500;X-TITLE=350 Palladio Pkwy:geo:-121.1206396,38.6504167
END:VEVENT
BEGIN:VEVENT
DTSTART;TZID=America/Los_Angeles:20241225T180000
DTEND;TZID=America/Los_Angeles:20241225T200000
DTSTAMP:20260419T055858
CREATED:20240217T023057Z
LAST-MODIFIED:20241211T065209Z
UID:10000493-1735149600-1735156800@gopalladio.com
SUMMARY:Menorah Lighting
DESCRIPTION:Menorah Lighting will be held at Palladio December 25th\, 6p-8p.\nJoin the Chabad Jewish Community Center for a Menorah lighting at Palladio.
URL:https://gopalladio.com/event/palladio-menorah-lighting/
LOCATION:Palladio Piazza\, 350 Palladio Pkwy\, Folsom\, CA\, 95630\, United States
CATEGORIES:Holiday Event
ATTACH;FMTTYPE=image/jpeg:https://gopalladio.com/wp-content/uploads/2024/02/image002.jpg
ORGANIZER;CN="Jewish Community Center Folsom/El Dorado Hills":MAILTO:admin@jewishfolsom.org
GEO:38.649922;-121.120109
X-APPLE-STRUCTURED-LOCATION;VALUE=URI;X-ADDRESS=Palladio Piazza 350 Palladio Pkwy Folsom CA 95630 United States;X-APPLE-RADIUS=500;X-TITLE=350 Palladio Pkwy:geo:-121.120109,38.649922
END:VEVENT
BEGIN:VEVENT
DTSTART;TZID=UTC:20240323T110000
DTEND;TZID=UTC:20240329T200000
DTSTAMP:20260419T055858
CREATED:20240215T060434Z
LAST-MODIFIED:20240307T023454Z
UID:10000492-1711191600-1711742400@gopalladio.com
SUMMARY:Find the Easter Eggs Social Media Challenge at Palladio
DESCRIPTION:Contest Dates & times:\nMarch 23rd @12pm – March 29th @8pm\n\nJoin the Find the Easter Eggs Social Media Challenge at Palladio\nGet ready for an exciting adventure with your friends at Palladio! Dive into our Find the Easter Eggs Social Media Challenge for a chance to win a $250 Palladio Gift Card. Here’s everything you need to know to participate\n \nHow to Enter:\n\n Explore Palladio: Venture outside on the Palladio grounds to find three uniquely colored Easter eggs with Pallaido sticker and QR code on them. Each egg is cleverly hidden and awaits your discovery.\n Take a Picture: Upon finding an egg\, capture a photo with the Easter egg. Make sure the egg and its color are visible in your snapshot.\n Post & Tag: Share your picture on your Instagram or Facebook (post or stories) and tag us @gopalladio !   Each post must be public so it can be viewed by our team.\n Find All Three Eggs: To qualify for the giveaway\, you must find all three differently colored Easter eggs\, tag\, and post a picture of each. Eggs must all have Palladio sticker with QR code on them. Completing this step ensures your entry into the draw to win the $250 Palladio Gift Card.\n\nFOLLOW @GOPALLADIO on INSTAGRAM HERE\nFOLLOW @GOPALLADIO on Facebook HERE\nGift cards are only valid at Palladio locations. Winner will be picked on March 30th and notified. The winner must be 18 years of age or older\, a local resident and be able to pick up their prize. We will not contact you regarding this promotion from an alternate account. We will never ask you to provide any personal credit card information in our communications. This promotion is in no way sponsored\, endorsed\, or associated with Facebook or Instagram.\nGift Card Terms and Conditions apply. No cash value\, no refunds\, no exchanges.
URL:https://gopalladio.com/event/palladios-social-media-find-the-easter-eggs-challenge/
LOCATION:Palladio Piazza\, 350 Palladio Pkwy\, Folsom\, CA\, 95630\, United States
CATEGORIES:Holiday Event,Misc Event
ATTACH;FMTTYPE=image/jpeg:https://gopalladio.com/wp-content/uploads/2024/02/EggHunt800x800.jpg
GEO:38.649922;-121.120109
X-APPLE-STRUCTURED-LOCATION;VALUE=URI;X-ADDRESS=Palladio Piazza 350 Palladio Pkwy Folsom CA 95630 United States;X-APPLE-RADIUS=500;X-TITLE=350 Palladio Pkwy:geo:-121.120109,38.649922
END:VEVENT
BEGIN:VEVENT
DTSTART;TZID=America/Los_Angeles:20240323T110000
DTEND;TZID=America/Los_Angeles:20240323T140000
DTSTAMP:20260419T055858
CREATED:20240215T053545Z
LAST-MODIFIED:20240320T104803Z
UID:10000491-1711191600-1711202400@gopalladio.com
SUMMARY:Palladio’s Meet The Easter Bunny
DESCRIPTION:Come Meet the Easter Bunny on Saturday\, March 23rd. 11a-2pm. The Easter Bunny will be coming to the Piazza at Palladio to greet boys and girls and parents can take pics with their cell phones in the Easter Set.  Since there is rain forecasted we are moving this event into the old Stichic space where we will have a colorful Easter Set that everyone will enjoy. We will also be having a Find the Palladio Easter Eggs Challenge for a chance to win a $250 Palladio Gift Card\, find more details at the Palladio Easter Egg Hunt Challenge Event Page\, click here.
URL:https://gopalladio.com/event/palladios-meet-the-easter-bunny/
LOCATION:Palladio Piazza\, 350 Palladio Pkwy\, Folsom\, CA\, 95630\, United States
CATEGORIES:Holiday Event
ATTACH;FMTTYPE=image/jpeg:https://gopalladio.com/wp-content/uploads/2024/02/Palladio_Easter_800x800-2024-1.jpg
GEO:38.649922;-121.120109
X-APPLE-STRUCTURED-LOCATION;VALUE=URI;X-ADDRESS=Palladio Piazza 350 Palladio Pkwy Folsom CA 95630 United States;X-APPLE-RADIUS=500;X-TITLE=350 Palladio Pkwy:geo:-121.120109,38.649922
END:VEVENT
BEGIN:VEVENT
DTSTART;TZID=UTC:20221211T130000
DTEND;TZID=UTC:20221211T170000
DTSTAMP:20260419T055858
CREATED:20221210T045530Z
LAST-MODIFIED:20221210T050823Z
UID:10000476-1670763600-1670778000@gopalladio.com
SUMMARY:Chanukah Wonderland at Palladio
DESCRIPTION:Treat your family this Chanukah! \nNow in its 16th consecutive year\, the Chanukah Wonderland event is recognized as the premier\nfamily Chanukah event in the Sacramento region!\nFamilies from every segment of the community are invited to\njoin in the 16th annual Chanukah Wonderland. \nEvent includes: \n   > Build A Menorah Workshop \n   > Crafts and games for all ages \n   > Festive Music \n   > Menorah Competition \n   > Photos with Judah Maccabee \n   > Delicious hot latkes \n   > Fabulous face painting \n   > Exciting new show featuring The Science Wizard \n   > Authentic Israeli food court selling delicious kosher Israeli food \n   > Chanukah gift shop  \n   > AND MORE!!  \nThe best way to get into the Chanukah spirit!  \nTickets \nAdmission to the Chanukah Wonderland is free and includes shows and photos with Judah Maccabee.   \nAn Unlimited Pass is available for $10 (before 12/09 – $20 at the door) which allows\nunlimited access to ALL crafts\, carnival games and the Build a Menorah Workshop.\nCLICK HERE to purchase passes. \nDate\, Time & Location \nDate:\n            Sunday\, December 11th\, 2022 \nTime:\n            1 :00pm – 5:00pm: Games\, crafts and food\n            2:30 & 4:30: Mad Science Show \nLocation:\n            430 Palladio Pkwy #1601\, Folsom\, CA 95630
URL:https://gopalladio.com/event/chanukah-wonderland-at-palladio/
LOCATION:430 Palladio Pkwy Folsom\, CA 95630\, 430 Palladio Pkwy\, Folsom\, CA\, 95630\, United States
CATEGORIES:Holiday Event
ORGANIZER;CN="Jewish Community Center Folsom/El Dorado Hills":MAILTO:admin@jewishfolsom.org
END:VEVENT
BEGIN:VEVENT
DTSTART;TZID=America/Tijuana:20200901T080000
DTEND;TZID=America/Tijuana:20200930T150000
DTSTAMP:20260419T055858
CREATED:20200904T213228Z
LAST-MODIFIED:20200904T213228Z
UID:10000396-1598947200-1601478000@gopalladio.com
SUMMARY:Palladio Scarecrow Contest
DESCRIPTION:Fun For The Whole Family \n– Buy the frame for $5 from Guest Services (Wed-Sat 11a-6p)\n– You Decorate It\n– Then Bring It Back by Sept. 3oth\n– Get a $20 gift card for entering \n“Must Use Palladio Scarecrow frame”\nCall guest services with Questions at 916.542.7408 \nOfficial Rules\nSign up and buy your frame at Guest Services located behind H & M. Fully completed scarecrow entries must be received by 3:00 p.m. September 30th. No sharp objects or weapons are allowed. No offensive wording of any kind. No touchups allowed after submission deadline. Palladio provided frame must be used. Gift cards have no cash value and no refunds given. All judges decisions are final. Placement of scarecrows are at the sole discretion of Palladio management. Anyone (family or individual) can sign up to participate. Cost is $5.00 for the wood frame to start your scarecrow. No supplies are given but the wood frame. Then once you return your scarecrow you will receive back a $20.00 Palladio Gift Card one per entry. Then we will display all scarecrows and pick five winners who will receive gift card prizes ($250.00\, $150.00\, $100.00\, $75.00 and $50.00). at sole discretion of Palladio management.
URL:https://gopalladio.com/event/palladio-scarecrow-contest/
LOCATION:CA
CATEGORIES:Holiday Event
END:VEVENT
BEGIN:VEVENT
DTSTART;TZID=America/Tijuana:20191222T170000
DTEND;TZID=America/Tijuana:20191222T190000
DTSTAMP:20260419T055858
CREATED:20191118T193349Z
LAST-MODIFIED:20191118T193349Z
UID:10000397-1577034000-1577041200@gopalladio.com
SUMMARY:Menorah Lighting at Palladio
DESCRIPTION:Menorah Lighting at Palladio\nJoin us on the 1st night of Chanukah for a special menorah lighting at the Palladio in Folsom. Live music. Fresh\, hot\, FREE latkes! \nAbout Organizer:\nChabad’s mission is to reach out to others with acts of goodness and kindness. We’re a community-based nonprofit organization whose efforts are rooted in traditional Jewish values — and many of our programs help the needy regardless of background.\nhttp://www.jewishfolsom.org
URL:https://gopalladio.com/event/menorah-lighting-at-palladio/
LOCATION:Piazza at Palladio\, 350 Palladio Pkwy\, Folsom\, CA\, 95630\, United States
CATEGORIES:Holiday Event
GEO:38.6504167;-121.1206396
X-APPLE-STRUCTURED-LOCATION;VALUE=URI;X-ADDRESS=Piazza at Palladio 350 Palladio Pkwy Folsom CA 95630 United States;X-APPLE-RADIUS=500;X-TITLE=350 Palladio Pkwy:geo:-121.1206396,38.6504167
END:VEVENT
END:VCALENDAR